BEGIN:VCALENDAR
VERSION:2.0
PRODID:-//CiviCRM//NONSGML CiviEvent iCal//EN
X-WR-TIMEZONE:Australia/Melbourne
METHOD:PUBLISH
BEGIN:VTIMEZONE
TZID:Australia/Melbourne
BEGIN:STANDARD
TZOFFSETFROM:+1000
TZOFFSETTO:+1000
TZNAME:AEST
DTSTART:20260520T100000
END:STANDARD
END:VTIMEZONE
BEGIN:VEVENT
UID:CiviCRM_EventID_2992_16746dfa31781dbd8303c2fbc150f9a1@www.gsv.org.au
SUMMARY:Using DNA for Family History - Session 3: Clusteri
 ng DNA Matches
X-ALT-DESC;FMTTYPE=text/html:<!DOCTYPE HTML PUBLIC
  "-//W3C//DTD HTML 3.2//EN"><html><body><p style="
 text-align:center\;"><br />\n <span style="font-si
 ze:16px\;"><span style="font-family:Verdana\, Gene
 va\, sans-serif\;"><strong>Session 3: Clustering D
 NA Matches</strong></span></span></p>\n \n <p><spa
 n style="font-size:16px\;"><span style="font-famil
 y:Verdana\, Geneva\, sans-serif\;"><span style="ba
 ckground:#FFFFFF\;"><span style="line-height:norma
 l\;"><span style="background:#fffefe\;"><span styl
 e="color:#000000\;">In this session\, you will lea
 rn two easy methods of organising your DNA match l
 ist so that groups of related people are easily id
 entified. </span></span></span></span></span></spa
 n></p>\n \n <p><span style="font-size:16px\;"><spa
 n style="font-family:Verdana\, Geneva\, sans-serif
 \;"><font color="#ff0000"><strong>$25 GSV members.
  $50 non-members. </strong></font><span style="col
 or:#000000\;">Maximum 95 participants.</span></spa
 n></span></p>\n \n <p><span style="font-size:16px\
 ;"><span style="font-family:Verdana\, Geneva\, san
 s-serif\;"><strong>Bookings are required</strong> 
 and can be made online via the Register Now link.<
 br />\n You will receive an email with the Zoom li
 nk.</span></span><br />\n  </p></body></html>
DESCRIPTION:\n \n Session 3: Clustering DNA Matches\n \n \n \n
  In this session\, you will learn two easy methods
  of organising your DNA match list so that groups 
 of related people are easily identified. \n \n \n 
 \n $25 GSV members. $50 non-members. Maximum 95 pa
 rticipants.\n \n \n \n Bookings are required and c
 an be made online via the Register Now link.\n \n 
 You will receive an email with the Zoom link.\n \n
   \n \n 
CATEGORIES:Course
CALSCALE:GREGORIAN
DTSTAMP;TZID=Australia/Melbourne:20260520T100000
DTSTART;TZID=Australia/Melbourne:20260520T100000
DTEND;TZID=Australia/Melbourne:20260520T120000
LOCATION:Zoom meeting via Internet\n Australian Eastern Sta
 ndard Time\n Melbourne  VIC \n Australia\n 
URL:https://www.gsv.org.au/civicrm/event/info?reset=1&id=2992
END:VEVENT
END:VCALENDAR
