BEGIN:VCALENDAR
VERSION:2.0
PRODID:-//CiviCRM//NONSGML CiviEvent iCal//EN
X-WR-TIMEZONE:Australia/Melbourne
METHOD:PUBLISH
BEGIN:VTIMEZONE
TZID:Australia/Melbourne
BEGIN:STANDARD
TZOFFSETFROM:+1000
TZOFFSETTO:+1000
TZNAME:AEST
DTSTART:20260522T133000
END:STANDARD
END:VTIMEZONE
BEGIN:VEVENT
UID:CiviCRM_EventID_3032_16746dfa31781dbd8303c2fbc150f9a1@www.gsv.org.au
SUMMARY:Researching your Scottish Ancestry back from Austr
 alia to Scotland
X-ALT-DESC;FMTTYPE=text/html:<!DOCTYPE HTML PUBLIC
  "-//W3C//DTD HTML 3.2//EN"><html><body><p>The tal
 k will outline the processes and resources availab
 le to research individuals from Australia to their
  ancestors in Scotland<br />\n Conducted via Zoom.
 <br />\n Open to Members and Non-Members<br />\n C
 ost: Free to all<br />\n Free of charge. Press Reg
 ister button to register.<br />\n Zoom link provid
 ed with registration confirmation email.</p>\n \n 
 <p>(Please note that the ScotlandsPeople class on 
 27th May is a natural follow-on from this talk.)</
 p></body></html>
DESCRIPTION:The talk will outline the processes and resources 
 available to research individuals from Australia t
 o their ancestors in Scotland\n \n Conducted via Z
 oom.\n \n Open to Members and Non-Members\n \n Cos
 t: Free to all\n \n Free of charge. Press Register
  button to register.\n \n Zoom link provided with 
 registration confirmation email.\n \n \n \n (Pleas
 e note that the ScotlandsPeople class on 27th May 
 is a natural follow-on from this talk.)\n \n 
CATEGORIES:Talk
CALSCALE:GREGORIAN
DTSTAMP;TZID=Australia/Melbourne:20260522T133000
DTSTART;TZID=Australia/Melbourne:20260522T133000
DTEND;TZID=Australia/Melbourne:20260522T150000
LOCATION:Internet Australia Eastern Standard Time\n Melbour
 ne  VIC \n Australia\n 
URL:https://www.gsv.org.au/civicrm/event/info?reset=1&id=3032
END:VEVENT
END:VCALENDAR
